BEGIN:VCALENDAR
VERSION:2.0
PRODID:-//ChamberMaster//Event Calendar 2.0//EN
METHOD:PUBLISH
X-PUBLISHED-TTL:P3D
REFRESH-INTERVAL:P3D
CALSCALE:GREGORIAN
BEGIN:VEVENT
DTSTART:20230628T050000Z
DTEND:20230628T050000Z
X-MICROSOFT-CDO-ALLDAYEVENT:FALSE
SUMMARY:Small Business Marketing Tools
DESCRIPTION:Let's unpack some marketing essentials plus go over some of the greatest tools today for efficient\, effective small business marketing. We will help you find longevity in your advertising efforts. Get the information you need\, the resources to succeed\, and find a balance between blowing off marketing or spending hours on the best-laid plans. From Google and Canva to social media\, newsletters\, and websites   let's get you mastering marketing basics\, leaning on digital and physical tools appropriately\, and handing things off to someone when you're ready. You'll be double-dipping content\, obsessed with your brand\, and increasing sales before you know it.  No fee. To register\, visit sbdc.uwf.edu and open "Training & Events".  Presenter: Allyson Lawson\, Marketing & Communications Associate\, Florida SBDC at UWF. Sponsored Cadence Bank and Wells Fargo.
X-ALT-DESC;FMTTYPE=text/html:<span style="color:#3C4043"><span style="font-family:calibri\,sans-serif">Let&#39\;s unpack some marketing essentials plus go over some of the greatest tools today for efficient\, effective small business marketing. We will help you find longevity in your advertising efforts. Get the information you need\, the resources to succeed\, and find a balance between blowing off marketing or spending hours on the best-laid plans.&nbsp\;From Google and Canva to social media\, newsletters\, and websites &mdash\;&nbsp\;let&#39\;s get you mastering marketing basics\, leaning on digital and physical tools appropriately\, and handing things off to someone when you&#39\;re ready. You&#39\;ll be double-dipping content\, obsessed with your brand\, and increasing sales before you know it.&nbsp\; </span></span><span style="color:black"><span style="font-family:calibri\,sans-serif">No fee. To register\, visit sbdc.uwf.edu and open &ldquo\;Training &amp\; Events&rdquo\;.&nbsp\; Presenter: Allyson Lawson\, Marketing &amp\; Communications Associate\, Florida SBDC at UWF. </span></span><span style="color:#222222"><span style="font-family:calibri\,sans-serif">Sponsored Cadence Bank and Wells Fargo.</span></span>
LOCATION:Online
UID:e.2219.28763
SEQUENCE:3
DTSTAMP:20260421T120111Z
URL:https://business.gulfbreezechamber.com/events/details/small-business-marketing-tools-28763
END:VEVENT

END:VCALENDAR
