BEGIN:VCALENDAR
VERSION:2.0
PRODID:-//ChamberMaster//Event Calendar 2.0//EN
METHOD:PUBLISH
X-PUBLISHED-TTL:P3D
REFRESH-INTERVAL:P3D
CALSCALE:GREGORIAN
BEGIN:VEVENT
DTSTART:20230407T140000Z
DTEND:20230407T170000Z
X-MICROSOFT-CDO-ALLDAYEVENT:FALSE
SUMMARY:Starting a Business
DESCRIPTION:You have an idea for a business. Develop your business idea with the Florida SBDC's "Starting a Business" workshop on April 7 from 9:00 am - 12:00 p.m. In this workshop\, we will discuss the details of launching your new venture\, including how to determine feasibility and legal structures\, licensing and permitting\, funding options for your business and basic marketing strategies to help you get started!
X-ALT-DESC;FMTTYPE=text/html:You have an idea for a business. Develop your business idea with the Florida SBDC&rsquo\;s &ldquo\;Starting a Business&rdquo\; workshop on April 7 from 9:00 am - 12:00 p.m. In this workshop\, we will discuss the details of launching your new venture\, including how to determine feasibility and legal structures\, licensing and permitting\, funding options for your business and basic marketing strategies to help you get started!
LOCATION:Greater Pensacola Chamber of Commerce\, CO:LAB Building\, 4th flr\, 418 W. Garden St.\, Pensacola\, FL 32501
UID:e.2219.28611
SEQUENCE:3
DTSTAMP:20260421T084857Z
URL:https://business.gulfbreezechamber.com/events/details/starting-a-business-04-07-2023-28611
END:VEVENT

END:VCALENDAR
