BEGIN:VCALENDAR
VERSION:2.0
PRODID:-//ChamberMaster//Event Calendar 2.0//EN
METHOD:PUBLISH
X-PUBLISHED-TTL:P3D
REFRESH-INTERVAL:P3D
CALSCALE:GREGORIAN
BEGIN:VEVENT
DTSTART:20230728T140000Z
DTEND:20230728T170000Z
X-MICROSOFT-CDO-ALLDAYEVENT:FALSE
SUMMARY:Starting a Business
DESCRIPTION:You have an idea for a business. Develop your business idea with the Florida SBDC's "Starting a Business" workshop. In this workshop\, we will discuss the details of launching your new venture\, including how to determine feasibility and legal structures\, licensing and permitting\, funding options for your business and basic marketing strategies to help you get started! Location: Greater Pensacola Chamber of Commerce\, 418 W. Garden St\, CO:LAB Building\, 4th flr.\, Pensacola\, FL 32501. Fee: $50. To register\, visit sbdc.uwf.edu and open "Training & Events".  Presented by Christa Wilson\, Associate Director\, Florida SBDC at UWF. Sponsored by Cadence Bank and Wells Fargo.
X-ALT-DESC;FMTTYPE=text/html:<span style="color:black"><span style="font-family:calibri\,sans-serif">You have an idea for a business. Develop your business idea</span></span><span style="font-family:calibri\,sans-serif"> with the Florida SBDC&rsquo\;s &ldquo\;Starting a Business&rdquo\; workshop.&nbsp\;<span style="color:black">In this workshop\, we will discuss&nbsp\;the details of launching your new venture\, including&nbsp\;how to determine feasibility and legal structures\, licensing and permitting\,&nbsp\;funding options for your business and basic marketing strategies to help you get started! </span>Location: Greater Pensacola Chamber of Commerce\, 418 W. Garden St\, CO:LAB Building\, 4<sup>th</sup> flr.\, Pensacola\, FL 32501</span><span style="color:#202124"><span style="font-family:roboto"><span style="font-size:10.5pt">. </span></span></span><span style="color:black"><span style="font-family:calibri\,sans-serif">Fee: $50. To register\, visit sbdc.uwf.edu and open &ldquo\;Training &amp\; Events&rdquo\;.&nbsp\; </span></span><span style="font-family:calibri\,sans-serif">Presented by Christa Wilson\, Associate Director\, Florida SBDC at UWF. </span><span style="color:#222222"><span style="font-family:calibri\,sans-serif">Sponsored by Cadence Bank and Wells Fargo.</span></span>
LOCATION:Greater Pensacola Chamber of Commerce\, 418 W. Garden St\, CO:LAB Building\, 4th flr.\, Pensacola\, FL 32501
UID:e.2219.28762
SEQUENCE:3
DTSTAMP:20260420T042047Z
URL:https://business.gulfbreezechamber.com/events/details/starting-a-business-07-28-2023-28762
END:VEVENT

END:VCALENDAR
