BEGIN:VCALENDAR
VERSION:2.0
PRODID:-//ChamberMaster//Event Calendar 2.0//EN
METHOD:PUBLISH
X-PUBLISHED-TTL:P3D
REFRESH-INTERVAL:P3D
CALSCALE:GREGORIAN
BEGIN:VEVENT
DTSTART:20230923T150000Z
DTEND:20230923T180000Z
X-MICROSOFT-CDO-ALLDAYEVENT:FALSE
SUMMARY:Steps for Autism
DESCRIPTION:Join Autism Pensacola for our Annual Fundraising Event\, Steps for Autism\, on Saturday\, September 23 at the Pensacola State College Walking Track. This family-friendly community fundraiser will feature local vendors\, food trucks\, inflatables\, face painting\, a balloon artist\, and more! Items will be available for raffle to help raise funds for the programs and services of Autism Pensacola.
X-ALT-DESC;FMTTYPE=text/html:Join Autism Pensacola for our Annual Fundraising Event\, Steps for Autism\, on Saturday\, September 23 at the Pensacola State College Walking Track. This family-friendly community fundraiser will feature local vendors\, food trucks\, inflatables\, face painting\, a balloon artist\, and more! Items will be available for raffle to help raise funds for the programs and services of Autism Pensacola.
LOCATION:Pensacola State College Walking Track
UID:e.2219.29021
SEQUENCE:3
DTSTAMP:20260420T001304Z
URL:https://business.gulfbreezechamber.com/events/details/steps-for-autism-09-23-2023-29021
END:VEVENT

END:VCALENDAR
