BEGIN:VCALENDAR
VERSION:2.0
PRODID:-//ChamberMaster//Event Calendar 2.0//EN
METHOD:PUBLISH
X-PUBLISHED-TTL:P3D
REFRESH-INTERVAL:P3D
CALSCALE:GREGORIAN
BEGIN:VEVENT
DTSTART:20250301T020000Z
DTEND:20250301T055500Z
X-MICROSOFT-CDO-ALLDAYEVENT:FALSE
SUMMARY:Surfers Club performing LIVE at Bamboo Willie’s!
DESCRIPTION:Surfers Club performing LIVE at Bamboo Willie's!
X-ALT-DESC;FMTTYPE=text/html:<div><span dir="auto" style="color:var(--primary-text)\; font-family:segoe ui historic\,segoe ui\,helvetica\,arial\,sans-serif\; font-size:0.9375rem">Surfers Club performing LIVE at Bamboo Willie&rsquo\;s!</span></div>\n
LOCATION:
UID:e.2219.30602
SEQUENCE:3
DTSTAMP:20260419T203002Z
URL:https://business.gulfbreezechamber.com/events/details/surfers-club-performing-live-at-bamboo-willie-s-30602
END:VEVENT

END:VCALENDAR
