BEGIN:VCALENDAR
VERSION:2.0
PRODID:-//ChamberMaster//Event Calendar 2.0//EN
METHOD:PUBLISH
X-PUBLISHED-TTL:P3D
REFRESH-INTERVAL:P3D
CALSCALE:GREGORIAN
BEGIN:VEVENT
DTSTART:20240811T010000Z
DTEND:20240811T060000Z
X-MICROSOFT-CDO-ALLDAYEVENT:FALSE
SUMMARY:Tape B at Laguna's
DESCRIPTION:Join us for an unforgettable night with TAPE B on Saturday\, August 10 at Laguna's Beach Bar + Grill.\n\nDoors open at 8:00 PM. Must be 18+ to attend.\n\nVIEW UPCOMING EVENTS: https://pimg.fyi/lagunas-summer-concert-series-24
X-ALT-DESC;FMTTYPE=text/html:<p>Join us for an unforgettable night with <strong>TAPE B </strong>on Saturday\, August 10 at Laguna&#39\;s Beach Bar + Grill.</p>\n\n<p>Doors open at 8:00 PM. Must be 18+ to attend.</p>\n\n<p><strong>VIEW UPCOMING EVENTS:</strong>&nbsp\;<a href="https://pimg.fyi/lagunas-summer-concert-series-24">https://pimg.fyi/lagunas-summer-concert-series-24</a></p>\n
LOCATION:Laguna's Beach Bar + Grill 460 Pensacola Beach Blvd Pensacola Beach\, FL 32561
UID:e.2219.29999
SEQUENCE:3
DTSTAMP:20260419T134410Z
URL:https://business.gulfbreezechamber.com/events/details/tape-b-at-laguna-s-29999
END:VEVENT

END:VCALENDAR
