BEGIN:VCALENDAR
VERSION:2.0
PRODID:-//ChamberMaster//Event Calendar 2.0//EN
METHOD:PUBLISH
X-PUBLISHED-TTL:P3D
REFRESH-INTERVAL:P3D
CALSCALE:GREGORIAN
BEGIN:VEVENT
DTSTART:20250412T190000Z
DTEND:20250412T230000Z
X-MICROSOFT-CDO-ALLDAYEVENT:FALSE
SUMMARY:The Bullet Drivers performing LIVE at Bamboo Willie’s!
DESCRIPTION:The Bullet Drivers performing LIVE at Bamboo Willie's!
X-ALT-DESC;FMTTYPE=text/html:The Bullet Drivers performing LIVE at Bamboo Willie&rsquo\;s!
LOCATION:
UID:e.2219.30941
SEQUENCE:3
DTSTAMP:20260419T182456Z
URL:https://business.gulfbreezechamber.com/events/details/the-bullet-drivers-performing-live-at-bamboo-willie-s-04-12-2025-30941
END:VEVENT

END:VCALENDAR
