BEGIN:VCALENDAR
VERSION:2.0
PRODID:-//ChamberMaster//Event Calendar 2.0//EN
METHOD:PUBLISH
X-PUBLISHED-TTL:P3D
REFRESH-INTERVAL:P3D
CALSCALE:GREGORIAN
BEGIN:VEVENT
DTSTART:20230727T140000Z
DTEND:20230727T150000Z
X-MICROSOFT-CDO-ALLDAYEVENT:FALSE
SUMMARY:The SSBCI Program: What Businesses Need to Know
DESCRIPTION:This webinar\, hosted by the Florida SBDC at UWF and Florida DEO\, will provide in-depth training on the Florida SSBCI (State Small Business Credit Initiative) Program. You will learn from Mason Alford and Andrew Allen\, SSBCI Representatives from Florida DEO. Topics include the components of the plan\, qualification requirements\, and how to apply for the program. No fee. To register\, visit sbdc.uwf.edu and open "Training & Events".  Sponsored Cadence Bank and Wells Fargo.
X-ALT-DESC;FMTTYPE=text/html:<span style="color:#3C4043"><span style="font-family:calibri\,sans-serif">This webinar\, hosted by the Florida SBDC at UWF and Florida DEO\, will provide in-depth training on the&nbsp\;</span></span><a href="https://www.google.com/url?q=https://floridajobs.org/FloridaSSBCI&amp\;sa=D&amp\;source=calendar&amp\;ust=1688390537973274&amp\;usg=AOvVaw1YsEOP3RxwdvWqMqXBmLH3" target="_blank"><span style="color:black"><span style="font-family:calibri\,sans-serif">Florida&nbsp\;SSBCI (State Small Business Credit Initiative) Program</span></span></a><span style="color:#3C4043"><span style="font-family:calibri\,sans-serif">. You will learn from Mason Alford and Andrew Allen\,&nbsp\;SSBCI&nbsp\;Representatives from Florida DEO. Topics include the components of the plan\, qualification requirements\, and how to apply for the program. No fee. </span></span><span style="color:black"><span style="font-family:calibri\,sans-serif">To register\, visit sbdc.uwf.edu and open &ldquo\;Training &amp\; Events&rdquo\;. &nbsp\;</span></span><span style="color:#222222"><span style="font-family:calibri\,sans-serif">Sponsored Cadence Bank and Wells Fargo.</span></span>
LOCATION:Online
UID:e.2219.28761
SEQUENCE:3
DTSTAMP:20260420T041850Z
URL:https://business.gulfbreezechamber.com/events/details/the-ssbci-program-what-businesses-need-to-know-28761
END:VEVENT

END:VCALENDAR
