BEGIN:VCALENDAR
VERSION:2.0
PRODID:-//ChamberMaster//Event Calendar 2.0//EN
METHOD:PUBLISH
X-PUBLISHED-TTL:P3D
REFRESH-INTERVAL:P3D
CALSCALE:GREGORIAN
BEGIN:VEVENT
DTSTART:20230806T200000Z
DTEND:20230807T000000Z
X-MICROSOFT-CDO-ALLDAYEVENT:FALSE
SUMMARY:Thin ICE performing LIVE at Bamboo Willie’s!
DESCRIPTION:Classic rock\, alternative\, and modern rock music
X-ALT-DESC;FMTTYPE=text/html:<span style="font-family:calibri\,sans-serif"><span style="font-size:11.0pt">Classic rock\, alternative\, and modern rock music</span></span>
LOCATION:
UID:e.2219.29001
SEQUENCE:3
DTSTAMP:20260420T022217Z
URL:https://business.gulfbreezechamber.com/events/details/thin-ice-performing-live-at-bamboo-willie-s-08-06-2023-29001
END:VEVENT

END:VCALENDAR
