BEGIN:VCALENDAR
VERSION:2.0
PRODID:-//ChamberMaster//Event Calendar 2.0//EN
METHOD:PUBLISH
X-PUBLISHED-TTL:P3D
REFRESH-INTERVAL:P3D
CALSCALE:GREGORIAN
BEGIN:VEVENT
DTSTART:20230917T200000Z
DTEND:20230918T000000Z
X-MICROSOFT-CDO-ALLDAYEVENT:FALSE
SUMMARY:Tyler Livingston & the Absolutes performing LIVE at Bamboo Willie’s!
DESCRIPTION:Classic Rock n Roll\, Blues and Funk
X-ALT-DESC;FMTTYPE=text/html:&nbsp\;&nbsp\;&nbsp\;&nbsp\;&nbsp\;&nbsp\;&nbsp\;&nbsp\;&nbsp\;&nbsp\;&nbsp\;&nbsp\;&nbsp\;&nbsp\;&nbsp\; Classic Rock n Roll\, Blues and Funk
LOCATION:Bamboo Willie's
UID:e.2219.29037
SEQUENCE:3
DTSTAMP:20260420T002621Z
URL:https://business.gulfbreezechamber.com/events/details/tyler-livingston-the-absolutes-performing-live-at-bamboo-willie-s-09-17-2023-29037
END:VEVENT

END:VCALENDAR
