BEGIN:VCALENDAR
VERSION:2.0
PRODID:-//ChamberMaster//Event Calendar 2.0//EN
METHOD:PUBLISH
X-PUBLISHED-TTL:P3D
REFRESH-INTERVAL:P3D
CALSCALE:GREGORIAN
BEGIN:VEVENT
DTSTART:20250118T000000Z
DTEND:20250118T040000Z
X-MICROSOFT-CDO-ALLDAYEVENT:FALSE
SUMMARY:Under the Stars Annual Awards Gala
DESCRIPTION:Date: January 17\, 2025\n\n  Time: 6:00 PM\n\n  Location: Hilton Pensacola Beach\n\nCelebrate an unforgettable night of recognition\, connection\, and community as we honor outstanding achievements and support Take Stock in Children.  \n\n   Get your tickets and learn more here: https://www.gulfbreezechamber.com/annual-awards-gala/\n\nDon't miss this incredible evening! We can't wait to see you there!  \n\n#UnderTheStars #AnnualGala #GulfBreezeEvents #TakeStockInChildren
X-ALT-DESC;FMTTYPE=text/html:<p>&#128197\; <strong>Date:</strong> January 17\, 2025<br />\n&#128341\; <strong>Time:</strong> 6:00 PM<br />\n&#128205\; <strong>Location:</strong> Hilton Pensacola Beach</p>\n\n<p>Celebrate an unforgettable night of recognition\, connection\, and community as we honor outstanding achievements and support <strong>Take Stock in Children.</strong> &#127776\;</p>\n\n<p>&#127903\;&#65039\; Get your tickets and learn more here: <a href="https://www.gulfbreezechamber.com/annual-awards-gala/" rel="noopener" target="_new"><span>https</span><span>://www</span><span>.gulfbreezechamber</span><span>.com</span><span>/annual</span><span>-awards</span><span>-gala/</span></a></p>\n\n<p>Don&rsquo\;t miss this incredible evening! We can&rsquo\;t wait to see you there! &#128171\;</p>\n\n<p>#UnderTheStars #AnnualGala #GulfBreezeEvents #TakeStockInChildren</p>\n
LOCATION:Hilton Pensacola Beach
UID:e.2219.30377
SEQUENCE:3
DTSTAMP:20260419T221558Z
URL:https://business.gulfbreezechamber.com/events/details/under-the-stars-annual-awards-gala-30377
END:VEVENT

END:VCALENDAR
