BEGIN:VCALENDAR
VERSION:2.0
PRODID:-//ChamberMaster//Event Calendar 2.0//EN
METHOD:PUBLISH
X-PUBLISHED-TTL:P3D
REFRESH-INTERVAL:P3D
CALSCALE:GREGORIAN
BEGIN:VEVENT
DTSTART:20231104T010000Z
DTEND:20231104T045500Z
X-MICROSOFT-CDO-ALLDAYEVENT:FALSE
SUMMARY:Unfortunate Sons performing LIVE at Bamboo Willie’s!
DESCRIPTION:A tried and true party! Country\, Rock\, R&B\, you name it!
X-ALT-DESC;FMTTYPE=text/html:A tried and true party! Country\, Rock\, R&amp\;B\, you name it!
LOCATION:Bamboo Willie's
UID:e.2219.29067
SEQUENCE:3
DTSTAMP:20260419T221610Z
URL:https://business.gulfbreezechamber.com/events/details/unfortunate-sons-performing-live-at-bamboo-willie-s-11-03-2023-29067
END:VEVENT

END:VCALENDAR
