BEGIN:VCALENDAR
VERSION:2.0
PRODID:-//ChamberMaster//Event Calendar 2.0//EN
METHOD:PUBLISH
X-PUBLISHED-TTL:P3D
REFRESH-INTERVAL:P3D
CALSCALE:GREGORIAN
BEGIN:VEVENT
DTSTART:20200214T230000Z
DTEND:20200215T010000Z
X-MICROSOFT-CDO-ALLDAYEVENT:FALSE
SUMMARY:Valentines Day Dinner
DESCRIPTION:Celebrate love with the one you love at our exclusive Valentine's Day five-course dinner. Award-winning Chef Omar Torres will be using local ingredients and all of today's top culinary techniques with carefully selected wine pairings. Each couple will receive a rose and be treated to live music in our romantic dining room.
X-ALT-DESC;FMTTYPE=text/html:Celebrate love with the one you love at our exclusive Valentine&#39\;s Day five-course&nbsp\;dinner. Award-winning Chef Omar Torres will be using local ingredients and all of today&#39\;s&nbsp\;top culinary techniques with carefully selected wine pairings. Each couple will receive a rose and be treated to live music in our romantic dining room.
LOCATION:Hilton Pensacola Beach Gulf Front 12 Via De Luna Drive Pensacola Beach\, FL 32561
UID:e.2219.20645
SEQUENCE:3
DTSTAMP:20260423T101141Z
URL:https://business.gulfbreezechamber.com/events/details/valentines-day-dinner-20645
END:VEVENT

END:VCALENDAR
