BEGIN:VCALENDAR
VERSION:2.0
PRODID:-//ChamberMaster//Event Calendar 2.0//EN
METHOD:PUBLISH
X-PUBLISHED-TTL:P3D
REFRESH-INTERVAL:P3D
CALSCALE:GREGORIAN
BEGIN:VEVENT
DTSTART;VALUE=DATE:20231104
DTEND;VALUE=DATE:20231105
TRANSP:TRANSPARENT
X-MICROSOFT-CDO-ALLDAYEVENT:TRUE
SUMMARY:Watch Party LSU vs Alabama
DESCRIPTION:We're throwing the biggest watch party on Pensacola Beach! Watch the game of the season on a huge LED screen with a DJ\, drink specials starting at $3 and half off select food items.
X-ALT-DESC;FMTTYPE=text/html:We&#39\;re throwing the biggest watch party on Pensacola Beach! Watch the game of the season on a huge LED screen with a DJ\, drink specials starting at $3 and half off select food items.
LOCATION:Whiskey Joes Bar and Grill on the Boardwalk Pensacola Beach
UID:e.2219.29066
SEQUENCE:3
DTSTAMP:20260419T221557Z
URL:https://business.gulfbreezechamber.com/events/details/watch-party-lsu-vs-alabama-29066
END:VEVENT

END:VCALENDAR
