BEGIN:VCALENDAR
VERSION:2.0
PRODID:-//ChamberMaster//Event Calendar 2.0//EN
METHOD:PUBLISH
X-PUBLISHED-TTL:P3D
REFRESH-INTERVAL:P3D
CALSCALE:GREGORIAN
BEGIN:VEVENT
DTSTART:20230730T010000Z
DTEND:20230730T063000Z
X-MICROSOFT-CDO-ALLDAYEVENT:FALSE
SUMMARY:Westend at Laguna's
DESCRIPTION:WESTEND AT LAGUNA'S\n\n\n\nTech House\, top chart-hitting WESTEND makes his way to Pensacola Beach this summer for a beach party like no other at Laguna's Beach Bar + Grill! \n\nSATURDAY\, JULY 29TH AT 8 PM   1:30 AM\n\nMust be 18+ to attend this event.\n\nPURCHASE TICKETS: https://www.eventbrite.com/e/westend-pensacola-beach-tickets-639557542827
X-ALT-DESC;FMTTYPE=text/html:<p><strong>WESTEND AT LAGUNA&#39\;S</strong><br />\n<br />\nTech House\, top chart-hitting WESTEND&nbsp\;makes his way to Pensacola Beach this summer for a beach party like no other at Laguna&#39\;s Beach Bar + Grill!&nbsp\;</p>\n\n<p><strong>SATURDAY\, JULY 29TH AT 8 PM &ndash\; 1:30 AM</strong></p>\n\n<p><em>Must be 18+ to attend this event.</em></p>\n\n<p><strong>PURCHASE TICKETS:</strong>&nbsp\;<a href="https://www.eventbrite.com/e/westend-pensacola-beach-tickets-639557542827" target="_blank">https://www.eventbrite.com/e/westend-pensacola-beach-tickets-639557542827</a></p>\n
LOCATION:Laguna's Beach Bar + Grill 460 Pensacola Beach Blvd Pensacola Beach\, FL 32561
UID:e.2219.28757
SEQUENCE:3
DTSTAMP:20260420T041656Z
URL:https://business.gulfbreezechamber.com/events/details/westend-at-laguna-s-28757
END:VEVENT

END:VCALENDAR
