BEGIN:VCALENDAR
VERSION:2.0
PRODID:-//ChamberMaster//Event Calendar 2.0//EN
METHOD:PUBLISH
X-PUBLISHED-TTL:P3D
REFRESH-INTERVAL:P3D
CALSCALE:GREGORIAN
BEGIN:VEVENT
DTSTART:20230610T000000Z
DTEND:20230610T020000Z
X-MICROSOFT-CDO-ALLDAYEVENT:FALSE
SUMMARY:World of Beer Friday Trivia Night
DESCRIPTION:Do you love answering questions about random things? Do you find yourself with an uncanny knowledge about strange topics? Do you like to win prizes? If you answered yes to any of these questions we know just where you need to be Friday nights at 7pm. TRIVIA!\n\n \n\nCome test your knowledge about all different types of topics\, we have a different theme each week! Win all the prizes. Yes\, that's right. WIN PRIZES for answering questions\, the catch is you've got to get 'em right. Prizes change weekly and based on availability. \n\n \n\nSo come hang\, grab a draft beer and play Friday night trivia with us.
X-ALT-DESC;FMTTYPE=text/html:<div>Do you love answering questions about random things? Do you find yourself with an uncanny knowledge about strange topics? Do you like to win prizes? If you answered yes to any of these questions we know just where you need to be Friday nights at 7pm. TRIVIA!<br />\n&nbsp\;</div>\n\n<div>Come test your knowledge about all different types of topics\, we have a different theme each week! Win all the prizes. Yes\, that&#39\;s right. WIN PRIZES for answering questions\, the catch is you&#39\;ve got to get &#39\;em right. Prizes change weekly and based on availability.&nbsp\;<br />\n&nbsp\;</div>\n\n<div>So come hang\, grab a draft beer and play Friday night trivia with us.</div>\n
LOCATION:World of Beer 200 South Palafox Pl Pensacola FL 32502
UID:e.2219.22181
SEQUENCE:3
DTSTAMP:20260421T134619Z
URL:https://business.gulfbreezechamber.com/events/details/world-of-beer-friday-trivia-night-06-09-2023-22181
END:VEVENT

END:VCALENDAR
